BEGIN:VCALENDAR
VERSION:2.0
PRODID:-//nesa1.ca//NONSGML kigkonsult.se iCalcreator 2.30.10//
CALSCALE:GREGORIAN
METHOD:PUBLISH
UID:74701115-f5ea-40a1-9ebf-596260c34f2d
X-WR-CALDESC:
X-WR-RELCALID:99e06838f0e37b4b4aeee396fd847631
X-WR-TIMEZONE:America/Denver
BEGIN:VTIMEZONE
TZID:America/Denver
BEGIN:STANDARD
TZNAME:MST
DTSTART:20251102T020000
TZOFFSETFROM:-0600
TZOFFSETTO:-0700
RDATE:20261101T020000
RDATE:20271107T020000
END:STANDARD
BEGIN:DAYLIGHT
TZNAME:MDT
DTSTART:20260308T020000
TZOFFSETFROM:-0700
TZOFFSETTO:-0600
RDATE:20270314T020000
END:DAYLIGHT
END:VTIMEZONE
BEGIN:VEVENT
UID:30c002cd-3b07-43e1-b3d5-f932d6193e5a
DTSTAMP:20260420T094329Z
DESCRIPTION:
DTSTART;TZID=America/Denver:20260602T100000
DTEND;TZID=America/Denver:20260602T150000
LOCATION:7524 139 Avenue
SUMMARY:Health & Wellness Fair
END:VEVENT
END:VCALENDAR
