BEGIN:VCALENDAR
VERSION:2.0
PRODID:-//nesa1.ca//NONSGML kigkonsult.se iCalcreator 2.30.10//
CALSCALE:GREGORIAN
METHOD:PUBLISH
UID:4856808e-36b5-48c3-9709-9fbc0b7d0628
X-WR-CALDESC:
X-WR-RELCALID:ebf8df5efc181a95b246ed62d3cf21fc
X-WR-TIMEZONE:America/Denver
BEGIN:VTIMEZONE
TZID:America/Denver
BEGIN:STANDARD
TZNAME:MST
DTSTART:20251102T020000
TZOFFSETFROM:-0600
TZOFFSETTO:-0700
RDATE:20261101T020000
RDATE:20271107T020000
END:STANDARD
BEGIN:DAYLIGHT
TZNAME:MDT
DTSTART:20260308T020000
TZOFFSETFROM:-0700
TZOFFSETTO:-0600
RDATE:20270314T020000
END:DAYLIGHT
END:VTIMEZONE
BEGIN:VEVENT
UID:bf56951b-56aa-485a-8aef-d4c9f00e26a7
DTSTAMP:20260420T094933Z
DESCRIPTION:
DTSTART;TZID=America/Denver:20260605T123000
DTEND;TZID=America/Denver:20260605T153000
LOCATION:7524 139 Avenue
SUMMARY:Seniors' Week Fashion Show & Shopping Event
END:VEVENT
END:VCALENDAR
