BEGIN:VCALENDAR
VERSION:2.0
PRODID:-//nesa1.ca//NONSGML kigkonsult.se iCalcreator 2.30.10//
CALSCALE:GREGORIAN
METHOD:PUBLISH
UID:57abe2b0-d5b7-49e3-bb67-35df9fe70764
X-WR-CALDESC:
X-WR-RELCALID:40e7d49808ca8b50801fd310fbbb8074
X-WR-TIMEZONE:America/Denver
BEGIN:VTIMEZONE
TZID:America/Denver
BEGIN:STANDARD
TZNAME:MST
DTSTART:20251102T020000
TZOFFSETFROM:-0600
TZOFFSETTO:-0700
RDATE:20261101T020000
RDATE:20271107T020000
END:STANDARD
BEGIN:DAYLIGHT
TZNAME:MDT
DTSTART:20260308T020000
TZOFFSETFROM:-0700
TZOFFSETTO:-0600
RDATE:20270314T020000
END:DAYLIGHT
END:VTIMEZONE
BEGIN:VEVENT
UID:4627d7f0-a503-4d0d-b93a-b94777b06587
DTSTAMP:20260423T201037Z
DESCRIPTION:
DTSTART;TZID=America/Denver:20260620T110000
DTEND;TZID=America/Denver:20260620T140000
LOCATION:7524 139 Avenue
SUMMARY:Friends & Family Day
END:VEVENT
END:VCALENDAR
