BEGIN:VCALENDAR
VERSION:2.0
PRODID:-//nesa1.ca//NONSGML kigkonsult.se iCalcreator 2.30.10//
CALSCALE:GREGORIAN
METHOD:PUBLISH
UID:83572285-a07a-43ac-94d2-b98f985c6bde
X-WR-CALDESC:
X-WR-RELCALID:3e8c07db97ba9ad469435b5e787a9cf3
X-WR-TIMEZONE:America/Denver
BEGIN:VTIMEZONE
TZID:America/Denver
BEGIN:STANDARD
TZNAME:MST
DTSTART:20221106T020000
TZOFFSETFROM:-0600
TZOFFSETTO:-0700
RDATE:20231105T020000
RDATE:20241103T020000
END:STANDARD
BEGIN:DAYLIGHT
TZNAME:MDT
DTSTART:20230312T020000
TZOFFSETFROM:-0700
TZOFFSETTO:-0600
RDATE:20240310T020000
RDATE:20250309T020000
END:DAYLIGHT
END:VTIMEZONE
BEGIN:VEVENT
UID:32c3af16-431e-45b0-8bef-ed376c95fb85
DTSTAMP:20260420T232854Z
DESCRIPTION:
DTSTART;TZID=America/Denver:20230918T090000
DTEND;TZID=America/Denver:20230918T150000
LOCATION:13708 74 Street
SUMMARY:NESA's Lil Book Sale
END:VEVENT
END:VCALENDAR
