BEGIN:VCALENDAR
VERSION:2.0
PRODID:-//nesa1.ca//NONSGML kigkonsult.se iCalcreator 2.30.10//
CALSCALE:GREGORIAN
METHOD:PUBLISH
UID:b4d2edd3-53ae-400f-883d-e8b2edecd2f8
X-WR-CALDESC:
X-WR-RELCALID:e0612350c620344ea1eb5af4bdfcf630
X-WR-TIMEZONE:America/Denver
BEGIN:VTIMEZONE
TZID:America/Denver
BEGIN:STANDARD
TZNAME:MST
DTSTART:20231105T020000
TZOFFSETFROM:-0600
TZOFFSETTO:-0700
RDATE:20241103T020000
END:STANDARD
BEGIN:DAYLIGHT
TZNAME:MDT
DTSTART:20240310T020000
TZOFFSETFROM:-0700
TZOFFSETTO:-0600
RDATE:20250309T020000
END:DAYLIGHT
END:VTIMEZONE
BEGIN:VEVENT
UID:21f219ad-5a21-4334-9634-672863f52c6b
DTSTAMP:20260421T003639Z
DESCRIPTION:
DTSTART;TZID=America/Denver:20240318T090000
DTEND;TZID=America/Denver:20240318T150000
LOCATION:13708 74 Street\, Edmonton\, AB T4C 3R1 CA
SUMMARY:Lil' Book Sales at NESA
END:VEVENT
END:VCALENDAR
