BEGIN:VCALENDAR
VERSION:2.0
PRODID:-//nesa1.ca//NONSGML kigkonsult.se iCalcreator 2.30.10//
CALSCALE:GREGORIAN
METHOD:PUBLISH
UID:320635b3-5365-437f-9316-ca4cf372aef5
X-WR-CALDESC:Save the date for NESA's next bottle drive! Come on by the McC
 lure United Church (13708 74 Street) on Wednesday\, April 3/24 between 8:3
 0am and 12pm and drop-off your bagged or boxed recyclables at the front do
 ors and help support our seniors recreation community. Your empties are fu
 ll of opportunities for us!\n\nUnable to make it in on the morning of Apri
 l 3? Contact our Fundraising Coordinator at 780-496-6969 to make arrangeme
 nts to have your empties picked up. Thank you for supporting the seniors!
X-WR-RELCALID:6c2339f76cfffd7444f99b2b5e1f1179
X-WR-TIMEZONE:America/Denver
BEGIN:VTIMEZONE
TZID:America/Denver
BEGIN:STANDARD
TZNAME:MST
DTSTART:20231105T020000
TZOFFSETFROM:-0600
TZOFFSETTO:-0700
RDATE:20241103T020000
END:STANDARD
BEGIN:DAYLIGHT
TZNAME:MDT
DTSTART:20240310T020000
TZOFFSETFROM:-0700
TZOFFSETTO:-0600
RDATE:20250309T020000
END:DAYLIGHT
END:VTIMEZONE
BEGIN:VEVENT
UID:875bf4a1-b77e-4193-81f2-c3288b1944ae
DTSTAMP:20260421T013413Z
DESCRIPTION:Save the date for NESA's next bottle drive! Come on by the McCl
 ure United Church (13708 74 Street) on Wednesday\, April 3/24 between 8:30
 am and 12pm and drop-off your bagged or boxed recyclables at the front doo
 rs and help support our seniors recreation community. Your empties are ful
 l of opportunities for us!\n\nUnable to make it in on the morning of April
  3? Contact our Fundraising Coordinator at 780-496-6969 to make arrangemen
 ts to have your empties picked up. Thank you for supporting the seniors!
DTSTART;TZID=America/Denver:20240403T083000
DTEND;TZID=America/Denver:20240403T120000
LOCATION:13708 74 Street
SUMMARY:Bottle Drive and Fundraiser
END:VEVENT
END:VCALENDAR
