BEGIN:VCALENDAR
VERSION:2.0
PRODID:-//nesa1.ca//NONSGML kigkonsult.se iCalcreator 2.30.10//
CALSCALE:GREGORIAN
METHOD:PUBLISH
UID:3f73c4fd-8714-4ed5-8a49-61555098ad0b
X-WR-CALDESC:
X-WR-RELCALID:b820f2edf1a2c521894e57273e055a8f
X-WR-TIMEZONE:America/Denver
BEGIN:VTIMEZONE
TZID:America/Denver
BEGIN:STANDARD
TZNAME:MST
DTSTART:20231105T020000
TZOFFSETFROM:-0600
TZOFFSETTO:-0700
RDATE:20241103T020000
RDATE:20251102T020000
END:STANDARD
BEGIN:DAYLIGHT
TZNAME:MDT
DTSTART:20240310T020000
TZOFFSETFROM:-0700
TZOFFSETTO:-0600
RDATE:20250309T020000
END:DAYLIGHT
END:VTIMEZONE
BEGIN:VEVENT
UID:beaa43e2-818c-474a-b7ef-fb5234303a34
DTSTAMP:20260422T033005Z
DESCRIPTION:
DTSTART;TZID=America/Denver:20240522T180000
DTEND;TZID=America/Denver:20240522T200000
LOCATION:Kilkenny Community League Hall (14910 72 Street)
SUMMARY:Succulents with Seniors and Girl Guides
END:VEVENT
END:VCALENDAR
