BEGIN:VCALENDAR
VERSION:2.0
PRODID:-//nesa1.ca//NONSGML kigkonsult.se iCalcreator 2.30.10//
CALSCALE:GREGORIAN
METHOD:PUBLISH
UID:6e0fc6ea-6d6c-460b-89ac-60af6f52baa1
X-WR-CALDESC:
X-WR-RELCALID:675abcae17e03ab149ae7ec7efbc592b
X-WR-TIMEZONE:America/Denver
BEGIN:VTIMEZONE
TZID:America/Denver
BEGIN:STANDARD
TZNAME:MST
DTSTART:20241103T020000
TZOFFSETFROM:-0600
TZOFFSETTO:-0700
RDATE:20251102T020000
RDATE:20261101T020000
END:STANDARD
BEGIN:DAYLIGHT
TZNAME:MDT
DTSTART:20250309T020000
TZOFFSETFROM:-0700
TZOFFSETTO:-0600
RDATE:20260308T020000
END:DAYLIGHT
END:VTIMEZONE
BEGIN:VEVENT
UID:a64a3485-b432-4ae9-9c0a-fc4493d41c82
DTSTAMP:20260422T171918Z
DESCRIPTION:
DTSTART;TZID=America/Denver:20250605T093000
DTEND;TZID=America/Denver:20250605T153000
LOCATION:7524 139 Avenue
SUMMARY:NESA Crib Tournament
END:VEVENT
END:VCALENDAR
