BEGIN:VCALENDAR
VERSION:2.0
PRODID:-//nesa1.ca//NONSGML kigkonsult.se iCalcreator 2.30.10//
CALSCALE:GREGORIAN
METHOD:PUBLISH
UID:c98b94db-803a-45c4-8640-d7aae3893d22
X-WR-CALDESC:
X-WR-RELCALID:d44177c927e630cee8661e261ec0dd9e
X-WR-TIMEZONE:America/Denver
BEGIN:VTIMEZONE
TZID:America/Denver
BEGIN:STANDARD
TZNAME:MST
DTSTART:20251102T020000
TZOFFSETFROM:-0600
TZOFFSETTO:-0700
RDATE:20261101T020000
END:STANDARD
BEGIN:DAYLIGHT
TZNAME:MDT
DTSTART:20260308T020000
TZOFFSETFROM:-0700
TZOFFSETTO:-0600
RDATE:20270314T020000
END:DAYLIGHT
END:VTIMEZONE
BEGIN:VEVENT
UID:6a5f1f52-64b0-41df-a8c9-df4f4133bf10
DTSTAMP:20260420T094556Z
DESCRIPTION:
DTSTART;TZID=America/Denver:20260408T040000
DTEND;TZID=America/Denver:20260410T040001
LOCATION:7524 139 Avenue
SUMMARY:Book\, Puzzle & Jewellery Sale
END:VEVENT
END:VCALENDAR
