BEGIN:VCALENDAR
VERSION:2.0
PRODID:-//nesa1.ca//NONSGML kigkonsult.se iCalcreator 2.30.10//
CALSCALE:GREGORIAN
METHOD:PUBLISH
UID:c934681a-e4a6-4060-8b50-9ce89fb03c22
X-WR-CALDESC:
X-WR-RELCALID:b6f442246f2c3bf2ff488b1bb261d332
X-WR-TIMEZONE:America/Denver
BEGIN:VTIMEZONE
TZID:America/Denver
BEGIN:STANDARD
TZNAME:MST
DTSTART:20251102T020000
TZOFFSETFROM:-0600
TZOFFSETTO:-0700
RDATE:20261101T020000
END:STANDARD
BEGIN:DAYLIGHT
TZNAME:MDT
DTSTART:20260308T020000
TZOFFSETFROM:-0700
TZOFFSETTO:-0600
RDATE:20270314T020000
END:DAYLIGHT
END:VTIMEZONE
BEGIN:VEVENT
UID:6c6f4220-cb12-4942-96f2-7c3498e9c26b
DTSTAMP:20260420T093924Z
DESCRIPTION:
DTSTART;TZID=America/Denver:20260417T130000
DTEND;TZID=America/Denver:20260417T150000
LOCATION:7524 139 Avenue
SUMMARY:Annual General Meeting
END:VEVENT
END:VCALENDAR
