BEGIN:VCALENDAR
VERSION:2.0
PRODID:-//nesa1.ca//NONSGML kigkonsult.se iCalcreator 2.30.10//
CALSCALE:GREGORIAN
METHOD:PUBLISH
UID:35bb2ecf-4b21-4b5c-8d1e-ed434769f3aa
X-WR-CALDESC:
X-WR-RELCALID:5915b78a4717be6b75f9899b130a22b3
X-WR-TIMEZONE:America/Denver
BEGIN:VTIMEZONE
TZID:America/Denver
BEGIN:STANDARD
TZNAME:MST
DTSTART:20251102T020000
TZOFFSETFROM:-0600
TZOFFSETTO:-0700
RDATE:20261101T020000
RDATE:20271107T020000
END:STANDARD
BEGIN:DAYLIGHT
TZNAME:MDT
DTSTART:20260308T020000
TZOFFSETFROM:-0700
TZOFFSETTO:-0600
RDATE:20270314T020000
END:DAYLIGHT
END:VTIMEZONE
BEGIN:VEVENT
UID:582cd0c2-5f74-4e60-8ab2-6065a4ef1a6e
DTSTAMP:20260420T075819Z
DESCRIPTION:
DTSTART;TZID=America/Denver:20260508T133000
DTEND;TZID=America/Denver:20260508T160000
LOCATION:7524 139 Avenue
SUMMARY:Cinco de Mayo Celebration
END:VEVENT
END:VCALENDAR
