BEGIN:VCALENDAR
VERSION:2.0
PRODID:-//nesa1.ca//NONSGML kigkonsult.se iCalcreator 2.30.10//
CALSCALE:GREGORIAN
METHOD:PUBLISH
UID:fed09048-a0be-45e1-b366-a8901e9aa37a
X-WR-CALDESC:
X-WR-RELCALID:03112d45d06eac1e9112afb6bc353d20
X-WR-TIMEZONE:America/Denver
BEGIN:VTIMEZONE
TZID:America/Denver
BEGIN:STANDARD
TZNAME:MST
DTSTART:20251102T020000
TZOFFSETFROM:-0600
TZOFFSETTO:-0700
RDATE:20261101T020000
RDATE:20271107T020000
END:STANDARD
BEGIN:DAYLIGHT
TZNAME:MDT
DTSTART:20260308T020000
TZOFFSETFROM:-0700
TZOFFSETTO:-0600
RDATE:20270314T020000
END:DAYLIGHT
END:VTIMEZONE
BEGIN:VEVENT
UID:85bf7111-3898-4c15-87a4-274784ecf43b
DTSTAMP:20260420T075942Z
DESCRIPTION:
DTSTART;TZID=America/Denver:20260515T130000
DTEND;TZID=America/Denver:20260515T150000
LOCATION:7524 139 Avenue
SUMMARY:Live Music Open Mic
END:VEVENT
END:VCALENDAR
