BEGIN:VCALENDAR
VERSION:2.0
PRODID:-//nesa1.ca//NONSGML kigkonsult.se iCalcreator 2.30.10//
CALSCALE:GREGORIAN
METHOD:PUBLISH
UID:973c1b17-9634-4fc6-a758-4f702bf3fb2b
X-WR-CALDESC:
X-WR-RELCALID:07d2aa66674b1d3758b831995bb92a16
X-WR-TIMEZONE:America/Denver
BEGIN:VTIMEZONE
TZID:America/Denver
BEGIN:STANDARD
TZNAME:MST
DTSTART:20251102T020000
TZOFFSETFROM:-0600
TZOFFSETTO:-0700
RDATE:20261101T020000
RDATE:20271107T020000
END:STANDARD
BEGIN:DAYLIGHT
TZNAME:MDT
DTSTART:20260308T020000
TZOFFSETFROM:-0700
TZOFFSETTO:-0600
RDATE:20270314T020000
END:DAYLIGHT
END:VTIMEZONE
BEGIN:VEVENT
UID:12f74b64-17e5-477e-ae9d-7ae682d139a1
DTSTAMP:20260420T080215Z
DESCRIPTION:
DTSTART;TZID=America/Denver:20260529T190000
DTEND;TZID=America/Denver:20260529T220000
LOCATION:7524 139 Avenue
SUMMARY:Dance Night: Featuring the Edmonton Swing Band
END:VEVENT
END:VCALENDAR
