BEGIN:VCALENDAR
VERSION:2.0
PRODID:-//nesa1.ca//NONSGML kigkonsult.se iCalcreator 2.30.10//
CALSCALE:GREGORIAN
METHOD:PUBLISH
UID:14707d28-24b1-4438-af1e-2179e8a275ad
X-WR-CALDESC:
X-WR-RELCALID:d9be0ca9965f0a9f67bc7134e2538501
X-WR-TIMEZONE:America/Denver
BEGIN:VTIMEZONE
TZID:America/Denver
BEGIN:STANDARD
TZNAME:MST
DTSTART:20251102T020000
TZOFFSETFROM:-0600
TZOFFSETTO:-0700
RDATE:20261101T020000
RDATE:20271107T020000
END:STANDARD
BEGIN:DAYLIGHT
TZNAME:MDT
DTSTART:20260308T020000
TZOFFSETFROM:-0700
TZOFFSETTO:-0600
RDATE:20270314T020000
END:DAYLIGHT
END:VTIMEZONE
BEGIN:VEVENT
UID:758b2bd8-9cc9-4584-9062-202e97f1d499
DTSTAMP:20260420T093835Z
DESCRIPTION:
DTSTART;TZID=America/Denver:20260626T190000
DTEND;TZID=America/Denver:20260626T220000
LOCATION:7524 139 Avenue
SUMMARY:Pub Night: Music Bingo
END:VEVENT
END:VCALENDAR
